BEGIN:VCALENDAR
VERSION:2.0
PRODID:-//eventon.com NONSGML v1.0//EN
CALSCALE:GREGORIAN
METHOD:PUBLISH
BEGIN:VEVENT
UID:69e8f195502f4
DTSTAMP:20260422T160437Z
DTSTART:20260509T070000Z
DTEND:20260509T140000Z
LOCATION:
SUMMARY:Seminar: Formen Regelwerk 09.05.2026
DESCRIPTION:Seminar Formen Regelwerk mit Sandra Gelbach\nhttps://www.wkuwor
 ld.com/events/seminar-formen-regelwerk-09-05-2026/
URL:https://www.wkuworld.com/events/seminar-formen-regelwerk-09-05-2026/
END:VEVENT
END:VCALENDAR