BEGIN:VCALENDAR
VERSION:2.0
PRODID:-//eventon.com NONSGML v1.0//EN
CALSCALE:GREGORIAN
METHOD:PUBLISH
BEGIN:VEVENT
UID:69e8f025a6f18
DTSTAMP:20260422T155829Z
DTSTART:20260606T060000Z
DTEND:20260606T215900Z
LOCATION:
SUMMARY:King of Kick 2026
DESCRIPTION:King of Kick 06.06.2026 Adresse: Am Gewerbepark 6 / Halle 12\, 
  12683 Berlin (Kategorie PF / LK / KL\,  Altersklasse 6–17):Die Waage fin
 det am Freitag\,  den 05.06.\,  von 17:00 bis 19:00 Uhr sowie am Samstag\, 
  den 06.06.\,  von 08:00 bis 09:00 Uhr statt.Der Wettkampfbeginn ist am Sam
 stag um 10:00 Uhr.Anmeldeschluss[..]\nhttps://www.wkuworld.com/events/king-
 of-kick-2026/
URL:https://www.wkuworld.com/events/king-of-kick-2026/
END:VEVENT
END:VCALENDAR