BEGIN:VCALENDAR
VERSION:2.0
PRODID:-//eventon.com NONSGML v1.0//EN
CALSCALE:GREGORIAN
METHOD:PUBLISH
BEGIN:VEVENT
UID:69e621684ea91
DTSTAMP:20260420T125152Z
DTSTART:20260516T060000Z
DTEND:20260516T215900Z
LOCATION:
SUMMARY:NOX TOURNAMENTUM 2026
DESCRIPTION:\nhttps://www.wkuworld.com/events/nox-tournamentum-2026/
URL:https://www.wkuworld.com/events/nox-tournamentum-2026/
END:VEVENT
END:VCALENDAR