BEGIN:VCALENDAR
VERSION:2.0
PRODID:-//eventon.com NONSGML v1.0//EN
CALSCALE:GREGORIAN
METHOD:PUBLISH
BEGIN:VEVENT
UID:69e6366b753fd
DTSTAMP:20260420T142131Z
DTSTART:20230218
DTEND:20230219
LOCATION:Sporthalle Krefelder Strasse Sporthalle Krefelder Strasse 86\,  47226 Duisburg
SUMMARY:Samonte Cup 2023
DESCRIPTION:\nhttps://www.wkuworld.com/events/samonte-cup-2023/
URL:https://www.wkuworld.com/events/samonte-cup-2023/
END:VEVENT
END:VCALENDAR