BEGIN:VCALENDAR
VERSION:2.0
PRODID:-//eventon.com NONSGML v1.0//EN
CALSCALE:GREGORIAN
METHOD:PUBLISH
BEGIN:VEVENT
UID:69eb91fd06647
DTSTAMP:20260424T155333Z
DTSTART:20260606T060000Z
DTEND:20260606T215900Z
LOCATION:
SUMMARY:KING OF KICK 2026 - JUNIORS CUP
DESCRIPTION:\nhttps://www.wkuworld.com/de/events/king-of-kick-2026-juniors-
 cup/
URL:https://www.wkuworld.com/de/events/king-of-kick-2026-juniors-cup/
END:VEVENT
END:VCALENDAR