BEGIN:VCALENDAR
VERSION:2.0
PRODID:-//eventon.com NONSGML v1.0//EN
CALSCALE:GREGORIAN
METHOD:PUBLISH
BEGIN:VEVENT
UID:69e9f413661f2
DTSTAMP:20260423T102731Z
DTSTART:20250405T194500Z
DTEND:20250405T194500Z
LOCATION:BWM Park Grasweg 74\,  81373 München
SUMMARY:STEKO`s FIGHT NIGHT 5.4.25
DESCRIPTION:Pro Fight Night Worldtitle fights\nhttps://www.wkuworld.com/de/
 events/stekos-fight-night-5-4-25/
URL:https://www.wkuworld.com/de/events/stekos-fight-night-5-4-25/
END:VEVENT
END:VCALENDAR