BEGIN:VCALENDAR
VERSION:2.0
PRODID:-//eventon.com NONSGML v1.0//EN
CALSCALE:GREGORIAN
METHOD:PUBLISH
BEGIN:VEVENT
UID:69e9dae2c45a8
DTSTAMP:20260423T084002Z
DTSTART:20241116T112700Z
DTEND:20241116T112700Z
LOCATION:
SUMMARY:NOX Gladiatorium Kickbox Gala
DESCRIPTION:\nhttps://www.wkuworld.com/de/events/nox-gladiatorium-kickbox-g
 ala/
URL:https://www.wkuworld.com/de/events/nox-gladiatorium-kickbox-gala/
END:VEVENT
END:VCALENDAR