BEGIN:VCALENDAR
VERSION:2.0
PRODID:-//eventon.com NONSGML v1.0//EN
CALSCALE:GREGORIAN
METHOD:PUBLISH
BEGIN:VEVENT
UID:69e9dae35528e
DTSTAMP:20260423T084003Z
DTSTART:20220625T160000Z
DTEND:20220625T210000Z
LOCATION:
SUMMARY:CWS Fight Night 07
DESCRIPTION:CWS Fight Night 07\nhttps://www.wkuworld.com/de/events/cws-figh
 t-night-07/
URL:https://www.wkuworld.com/de/events/cws-fight-night-07/
END:VEVENT
END:VCALENDAR