BEGIN:VCALENDAR
VERSION:2.0
PRODID:-//eventon.com NONSGML v1.0//EN
CALSCALE:GREGORIAN
METHOD:PUBLISH
BEGIN:VEVENT
UID:69e853415ac10
DTSTAMP:20260422T044905Z
DTSTART:20211002T205200Z
DTEND:20211002T205200Z
LOCATION:
SUMMARY:Stekos Fight Night - Results II
DESCRIPTION:[DE] Stekos Fight Night\,  02.10.2021!⁠6.10.2021 Ausstrahlung
  22:00 &#8211; Sport 1 TV⁠ [ENG] Stekos Fight Night\,  02.10.2021!⁠ ⁠
 6.10.2021 broadcast 22:00 &#8211; Sport 1 TV⁠Fightcard⁠7. WKU Weltmeist
 erschaft (5 x 3 min.) Kickboxen Lowkick –62\, 5kg⁠Ilda Lelo (ALB) vs. M
 arie Lang (GER)⁠&nbsp; Win by surrender round 4: Marie Lang @marie_lang_o
 fficial 8. WKU Weltmeisterschaft (5[..]\nhttps://www.wkuworld.com/de/events
 /stekos-fight-night-results-ii/
URL:https://www.wkuworld.com/de/events/stekos-fight-night-results-ii/
END:VEVENT
END:VCALENDAR